BEGIN:VCALENDAR
VERSION:2.0
PRODID:-//Die Gewandhütte - ECPv6.15.18//NONSGML v1.0//EN
CALSCALE:GREGORIAN
METHOD:PUBLISH
X-WR-CALNAME:Die Gewandhütte
X-ORIGINAL-URL:https://gewandhuette.de
X-WR-CALDESC:Veranstaltungen für Die Gewandhütte
REFRESH-INTERVAL;VALUE=DURATION:PT1H
X-Robots-Tag:noindex
X-PUBLISHED-TTL:PT1H
BEGIN:VTIMEZONE
TZID:Europe/Berlin
BEGIN:DAYLIGHT
TZOFFSETFROM:+0100
TZOFFSETTO:+0200
TZNAME:CEST
DTSTART:20240331T010000
END:DAYLIGHT
BEGIN:STANDARD
TZOFFSETFROM:+0200
TZOFFSETTO:+0100
TZNAME:CET
DTSTART:20241027T010000
END:STANDARD
BEGIN:DAYLIGHT
TZOFFSETFROM:+0100
TZOFFSETTO:+0200
TZNAME:CEST
DTSTART:20250330T010000
END:DAYLIGHT
BEGIN:STANDARD
TZOFFSETFROM:+0200
TZOFFSETTO:+0100
TZNAME:CET
DTSTART:20251026T010000
END:STANDARD
BEGIN:DAYLIGHT
TZOFFSETFROM:+0100
TZOFFSETTO:+0200
TZNAME:CEST
DTSTART:20260329T010000
END:DAYLIGHT
BEGIN:STANDARD
TZOFFSETFROM:+0200
TZOFFSETTO:+0100
TZNAME:CET
DTSTART:20261025T010000
END:STANDARD
BEGIN:DAYLIGHT
TZOFFSETFROM:+0100
TZOFFSETTO:+0200
TZNAME:CEST
DTSTART:20270328T010000
END:DAYLIGHT
BEGIN:STANDARD
TZOFFSETFROM:+0200
TZOFFSETTO:+0100
TZNAME:CET
DTSTART:20271031T010000
END:STANDARD
END:VTIMEZONE
BEGIN:VEVENT
DTSTART;TZID=Europe/Berlin:20260417T190000
DTEND;TZID=Europe/Berlin:20260417T220000
DTSTAMP:20260420T064804
CREATED:20251012T134248Z
LAST-MODIFIED:20251114T215334Z
UID:964-1776452400-1776463200@gewandhuette.de
SUMMARY:VII. Kreativwerkstatt 2025/26
DESCRIPTION:Letztes Treffen vor der Sommerpause
URL:https://gewandhuette.de/event/vii-kreativwerkstatt-2025-26/
LOCATION:Die Gewandhütte\, Georgenstraße 18\, Gablingen\, Bayern\, 86456\, Germany
CATEGORIES:Kreativwerkstatt,Ladenveranstaltungen
ORGANIZER;CN="Die Gewandh%C3%BCtte":MAILTO:info@gewandhuette.de
END:VEVENT
BEGIN:VEVENT
DTSTART;TZID=Europe/Berlin:20260329T110000
DTEND;TZID=Europe/Berlin:20260329T170000
DTSTAMP:20260420T064804
CREATED:20260209T181258Z
LAST-MODIFIED:20260309T054026Z
UID:1078-1774782000-1774803600@gewandhuette.de
SUMMARY:Kunst und Handwerk im Frühling
DESCRIPTION:Kunst und Handwerk am Palmsonntag\nWie jedes Jahr laden wir herzlich zu unserem kleinen\, aber feinen Markt für Kunst und Handwerk am Palmsonntag ein. Im gemütlichen GeNuss Café bei Josef Wetzstein präsentieren Künstlerinnen aus unserem Ort ihre liebevoll gefertigten Werke. \nMusikalisch umrahmt wird der Handwerksmarkt vom Duo ami\, die ein paar ihrer schönsten Lieder zum Besten geben werden. \nAuch wir sind wieder mit dabei und freuen uns darauf\, euch persönlich zu begrüßen. \nKommt vorbei und lasst euch inspirieren – wir freuen uns auf euren Besuch!
URL:https://gewandhuette.de/event/kunst-und-handwerk-im-fruehling/
LOCATION:GeNuss Cafe\, 15\, Georgenstraße\, Lützelburg\, Bayern\, 86456\, Germany
CATEGORIES:Kunsthandwerkermarkt
END:VEVENT
BEGIN:VEVENT
DTSTART;TZID=Europe/Berlin:20260320T190000
DTEND;TZID=Europe/Berlin:20260320T220000
DTSTAMP:20260420T064804
CREATED:20251012T134157Z
LAST-MODIFIED:20260314T113548Z
UID:962-1774033200-1774044000@gewandhuette.de
SUMMARY:VI. Kreativwerkstatt 2025/26
DESCRIPTION:🐣 Osterwerkstatt 🐣 \nLasst uns gemeinsam kreativ werden! Handarbeiten\, Spaß haben und tolle Osterdeko für den Frühling gestalten. 🌷✨ \nMach mit und genieße die kreative Auszeit! \nWann: 20.03.2026\, 19-22 Uhr\nWo: bei uns im Ladengeschäft \nScreenshot\nUnkostenbeitrag 5€\nBitte meldet Euch an!
URL:https://gewandhuette.de/event/vi-kreativwerkstatt-2025-26/
LOCATION:Die Gewandhütte\, Georgenstraße 18\, Gablingen\, Bayern\, 86456\, Germany
CATEGORIES:Kreativwerkstatt,Ladenveranstaltungen
ORGANIZER;CN="Die Gewandh%C3%BCtte":MAILTO:info@gewandhuette.de
END:VEVENT
BEGIN:VEVENT
DTSTART;TZID=Europe/Berlin:20260228T000000
DTEND;TZID=Europe/Berlin:20260301T235959
DTSTAMP:20260420T064804
CREATED:20260208T103928Z
LAST-MODIFIED:20260208T103928Z
UID:1066-1772236800-1772409599@gewandhuette.de
SUMMARY:Ostermarkt Stadtbergen
DESCRIPTION:Der Oster- und Kunsthandwerksmarkt Stadtbergen findet jährlich ca. 4 Wochen vor Ostern statt. \n\n\n\n\n\n\n\n\n\n\n\n\nÜber 25 Aussteller präsentieren im Bürgersaal Stadtbergen Osterdekorationen\, Geschenkartikel\, Floristik und mehr. Der Eintritt ist frei. \nWir freuen uns auf Ihren Besuch.
URL:https://gewandhuette.de/event/ostermarkt-stadtbergen/
LOCATION:Ostermarkt Stadtbergen\, Am Hopfengarten 12\, 86391 Stadtbergen\, 86391\, Germany
END:VEVENT
BEGIN:VEVENT
DTSTART;TZID=Europe/Berlin:20260220T190000
DTEND;TZID=Europe/Berlin:20260220T220000
DTSTAMP:20260420T064804
CREATED:20251012T134038Z
LAST-MODIFIED:20251114T215403Z
UID:960-1771614000-1771624800@gewandhuette.de
SUMMARY:V. Kreativwerkstatt 2025/26
DESCRIPTION:Der Frühling naht
URL:https://gewandhuette.de/event/v-kreativwerkstatt-2025-26/
LOCATION:Die Gewandhütte\, Georgenstraße 18\, Gablingen\, Bayern\, 86456\, Germany
CATEGORIES:Kreativwerkstatt,Ladenveranstaltungen
ORGANIZER;CN="Die Gewandh%C3%BCtte":MAILTO:info@gewandhuette.de
END:VEVENT
BEGIN:VEVENT
DTSTART;TZID=Europe/Berlin:20260116T190000
DTEND;TZID=Europe/Berlin:20260116T220000
DTSTAMP:20260420T064804
CREATED:20251012T133942Z
LAST-MODIFIED:20260107T200228Z
UID:958-1768590000-1768600800@gewandhuette.de
SUMMARY:IV. Kreativwerkstatt 2025/26
DESCRIPTION:Wann: Freitag 16.01.2026\, 19-22 Uhr \n\n\n\nWo: bei uns im Ladengeschäft \n\n\n\nThema: rund um die Nadel \n\n\n\nEgal ob stricken\, sticken\, nähen\, häkeln\, knüpfen\, \n… gibt es ein Problem? Wir lösen es zusammen! \n\n\n\nUnkostenbeitrag: 5€ \n\n\n\nBitte meldet Euch an! 🐝 \n\n\n\n 
URL:https://gewandhuette.de/event/iv-kreativwerkstatt-2025-26/
LOCATION:Die Gewandhütte\, Georgenstraße 18\, Gablingen\, Bayern\, 86456\, Germany
CATEGORIES:Kreativwerkstatt,Ladenveranstaltungen
ORGANIZER;CN="Die Gewandh%C3%BCtte":MAILTO:info@gewandhuette.de
END:VEVENT
BEGIN:VEVENT
DTSTART;TZID=Europe/Berlin:20251219T190000
DTEND;TZID=Europe/Berlin:20251219T220000
DTSTAMP:20260420T064804
CREATED:20251208T143803Z
LAST-MODIFIED:20251213T164259Z
UID:956-1766170800-1766181600@gewandhuette.de
SUMMARY:III. Kreativwerkstatt 2025/26
DESCRIPTION:✨ Lust auf eine kreative Auszeit? ✨ \n\n\n\n Wir laden dich herzlich ein zu unserem Advents-Kreativworkshop! 🎨 Gemeinsam basteln\, lachen und die Vorfreude auf Weihnachten genießen. 🌟 \n\n\n\nMelde dich an und erlebe einen Nachmittag voller Inspiration und Gemütlichkeit! ‼️Als Besonderheit konnte ich das Duo „ami“ gewinnen. Sie werden uns mit akustischer Musik unterhalten. ‼️ \n\n👉 Jetzt anmelden – wir freuen uns auf Dich! 🐝 \n\n\n\nUnkostenbeitrag: 5€
URL:https://gewandhuette.de/event/iii-kreativwerkstatt-2025-26/
LOCATION:Die Gewandhütte\, Georgenstraße 18\, Gablingen\, Bayern\, 86456\, Germany
CATEGORIES:Kreativwerkstatt,Ladenveranstaltungen
ORGANIZER;CN="Die Gewandh%C3%BCtte":MAILTO:info@gewandhuette.de
END:VEVENT
END:VCALENDAR